BEGIN:VCALENDAR
VERSION:2.0
PRODID:-//Aldwyn Primary School - ECPv6.15.12.2//NONSGML v1.0//EN
CALSCALE:GREGORIAN
METHOD:PUBLISH
X-ORIGINAL-URL:https://aldwynprimary.co.uk
X-WR-CALDESC:Events for Aldwyn Primary School
REFRESH-INTERVAL;VALUE=DURATION:PT1H
X-Robots-Tag:noindex
X-PUBLISHED-TTL:PT1H
BEGIN:VTIMEZONE
TZID:Europe/London
BEGIN:DAYLIGHT
TZOFFSETFROM:+0000
TZOFFSETTO:+0100
TZNAME:BST
DTSTART:20220327T010000
END:DAYLIGHT
BEGIN:STANDARD
TZOFFSETFROM:+0100
TZOFFSETTO:+0000
TZNAME:GMT
DTSTART:20221030T010000
END:STANDARD
BEGIN:DAYLIGHT
TZOFFSETFROM:+0000
TZOFFSETTO:+0100
TZNAME:BST
DTSTART:20230326T010000
END:DAYLIGHT
BEGIN:STANDARD
TZOFFSETFROM:+0100
TZOFFSETTO:+0000
TZNAME:GMT
DTSTART:20231029T010000
END:STANDARD
BEGIN:DAYLIGHT
TZOFFSETFROM:+0000
TZOFFSETTO:+0100
TZNAME:BST
DTSTART:20240331T010000
END:DAYLIGHT
BEGIN:STANDARD
TZOFFSETFROM:+0100
TZOFFSETTO:+0000
TZNAME:GMT
DTSTART:20241027T010000
END:STANDARD
END:VTIMEZONE
BEGIN:VEVENT
DTSTART;TZID=Europe/London:20230920T190000
DTEND;TZID=Europe/London:20230920T200000
DTSTAMP:20260421T105310
CREATED:20230915T082353Z
LAST-MODIFIED:20230915T093604Z
UID:830-1695236400-1695240000@aldwynprimary.co.uk
SUMMARY:Friends of Aldwyn PTA Meeting 7pm
DESCRIPTION:The Snipe pub\, all welcome
URL:https://aldwynprimary.co.uk/event/friends-of-aldwyn-pta-meeting-the-snipe-pub-all-welcome
CATEGORIES:PTA Meeting
END:VEVENT
END:VCALENDAR